BEGIN:VCALENDAR
VERSION:2.0
PRODID:-//Performing Arts at Fawn Lake - ECPv6.15.20//NONSGML v1.0//EN
CALSCALE:GREGORIAN
METHOD:PUBLISH
X-WR-CALNAME:Performing Arts at Fawn Lake
X-ORIGINAL-URL:https://performingartsatfawnlake.org
X-WR-CALDESC:Events for Performing Arts at Fawn Lake
REFRESH-INTERVAL;VALUE=DURATION:PT1H
X-Robots-Tag:noindex
X-PUBLISHED-TTL:PT1H
BEGIN:VTIMEZONE
TZID:America/New_York
BEGIN:DAYLIGHT
TZOFFSETFROM:-0500
TZOFFSETTO:-0400
TZNAME:EDT
DTSTART:20250309T070000
END:DAYLIGHT
BEGIN:STANDARD
TZOFFSETFROM:-0400
TZOFFSETTO:-0500
TZNAME:EST
DTSTART:20251102T060000
END:STANDARD
BEGIN:DAYLIGHT
TZOFFSETFROM:-0500
TZOFFSETTO:-0400
TZNAME:EDT
DTSTART:20260308T070000
END:DAYLIGHT
BEGIN:STANDARD
TZOFFSETFROM:-0400
TZOFFSETTO:-0500
TZNAME:EST
DTSTART:20261101T060000
END:STANDARD
BEGIN:DAYLIGHT
TZOFFSETFROM:-0500
TZOFFSETTO:-0400
TZNAME:EDT
DTSTART:20270314T070000
END:DAYLIGHT
BEGIN:STANDARD
TZOFFSETFROM:-0400
TZOFFSETTO:-0500
TZNAME:EST
DTSTART:20271107T060000
END:STANDARD
END:VTIMEZONE
BEGIN:VEVENT
DTSTART;TZID=America/New_York:20260426T150000
DTEND;TZID=America/New_York:20260426T163000
DTSTAMP:20260424T091840
CREATED:20260314T200433Z
LAST-MODIFIED:20260314T200433Z
UID:50411-1777215600-1777221000@performingartsatfawnlake.org
SUMMARY:PAFL members - Broadway Comes to Fawn Lake!
DESCRIPTION:Members\, prepare for a lively afternoon matinée of music\, energy\, and unforgettable tunes as Performing Arts at Fawn Lake (PAFL) presents Broadway hits and show tunes. \nThis remarkable concert will showcase some of the most beloved songs ever performed on the Broadway stage. Attendees will be transported through some of Broadway’s most legendary moments. From soaring ballads to upbeat favorites\, the program celebrates the magic\, emotion\, and excitement that make musical theater so enduring. \nWhether you’re a devoted Broadway enthusiast or simply enjoy great live music\, it promises to be a delightful afternoon of entertainment to share with friends and neighbors. \nFeatured performers for this special concert are Soprano Cree Carrico\, Broadway Actor Dwayne Clark\, and Music Director Ethan Smith-Cohen. These musicians are coming together at Fawn Lake to present a unique\, one-of-a-kind performance that is not to be missed! \nThis special discounted ticket price (a $10 saving) is available exclusively to our 2026 PAFL supporting members and their non-Fawn Lake guests. \nAll ticket purchases are final.  Thank you for your support!
URL:https://performingartsatfawnlake.org/event/pafl-members-broadway-comes-to-fawn-lake/
LOCATION:FLCA Clubhouse\, 11300 Longstreet Drive\, Spotsylvania\, VA\, 22550\, United States
CATEGORIES:PAFL Vocal Series
ATTACH;FMTTYPE=image/webp:https://performingartsatfawnlake.org/wp-content/uploads/2026/03/Carrico-Smith-Clark_photo.webp
ORGANIZER;CN="Performing Arts at Fawn Lake":MAILTO:events@performingartsatfawnlake.org
END:VEVENT
BEGIN:VEVENT
DTSTART;TZID=America/New_York:20260426T150000
DTEND;TZID=America/New_York:20260426T163000
DTSTAMP:20260424T091840
CREATED:20260314T201652Z
LAST-MODIFIED:20260314T201652Z
UID:50437-1777215600-1777221000@performingartsatfawnlake.org
SUMMARY:Non-PAFL members - Broadway Comes to Fawn Lake!
DESCRIPTION:Prepare for a lively afternoon matinée of music\, energy\, and unforgettable tunes as Performing Arts at Fawn Lake (PAFL) presents Broadway hits and show tunes. \nThis remarkable concert will showcase some of the most beloved songs ever performed on the Broadway stage. Attendees will be transported through some of Broadway’s most legendary moments. From soaring ballads to upbeat favorites\, the program celebrates the magic\, emotion\, and excitement that make musical theater so enduring. \nWhether you’re a devoted Broadway enthusiast or simply enjoy great live music\, it promises to be a delightful afternoon of entertainment to share with friends and neighbors. \nFeatured performers for this special concert are Soprano Cree Carrico\, Broadway Actor Dwayne Clark\, and Music Director Ethan Smith-Cohen. These musicians are coming together at Fawn Lake to present a unique\, one-of-a-kind performance that is not to be missed! \nA discounted ticket price is available to PAFL supporting members and their non-Fawn Lake guests.  If you are not yet enjoying PAFL membership benefits\, then enroll here. \nAll ticket purchases are final.  Thank you for your support!
URL:https://performingartsatfawnlake.org/event/non-pafl-members-broadway-comes-to-fawn-lake/
LOCATION:FLCA Clubhouse\, 11300 Longstreet Drive\, Spotsylvania\, VA\, 22550\, United States
CATEGORIES:PAFL Vocal Series
ATTACH;FMTTYPE=image/webp:https://performingartsatfawnlake.org/wp-content/uploads/2026/03/Carrico-Smith-Clark_photo.webp
ORGANIZER;CN="Performing Arts at Fawn Lake":MAILTO:events@performingartsatfawnlake.org
END:VEVENT
END:VCALENDAR